BEGIN:VCALENDAR
VERSION:2.0
PRODID:-//New Mexico House Rabbit Society - ECPv6.10.1.1//NONSGML v1.0//EN
CALSCALE:GREGORIAN
METHOD:PUBLISH
X-WR-CALNAME:New Mexico House Rabbit Society
X-ORIGINAL-URL:https://newmexicohrs.org
X-WR-CALDESC:Events for New Mexico House Rabbit Society
REFRESH-INTERVAL;VALUE=DURATION:PT1H
X-Robots-Tag:noindex
X-PUBLISHED-TTL:PT1H
BEGIN:VTIMEZONE
TZID:America/Denver
BEGIN:DAYLIGHT
TZOFFSETFROM:-0700
TZOFFSETTO:-0600
TZNAME:MDT
DTSTART:20240310T090000
END:DAYLIGHT
BEGIN:STANDARD
TZOFFSETFROM:-0600
TZOFFSETTO:-0700
TZNAME:MST
DTSTART:20241103T080000
END:STANDARD
END:VTIMEZONE
BEGIN:VEVENT
DTSTART;TZID=America/Denver:20240225T153000
DTEND;TZID=America/Denver:20240225T173000
DTSTAMP:20260422T220659
CREATED:20240222T194503Z
LAST-MODIFIED:20240225T094458Z
UID:3149-1708875000-1708882200@newmexicohrs.org
SUMMARY:Social Event @ Sawmill Market
DESCRIPTION:Our in-person social event is perfect for rabbit lovers and enthusiasts to come together and share their love for these adorable furry individuals. \nWhether you have a pet rabbit or are just curious about them\, this open social hangout is the place to be. You’ll have the opportunity to meet fellow bunny enthusiasts\, exchange stories\, and maybe even learn a thing or two about rabbit care. \nAt New Mexico House Rabbit Society Open Social Hangouts\, you’ll find a warm and welcoming atmosphere where you can relax and enjoy the company of like-minded individuals. \nDrop in any time between 3:30pm and 5:30pm.
URL:https://newmexicohrs.org/event/social-event-hangout/
LOCATION:Sawmill Market\, 1909 Bellamah Ave NW\, Albuquerque\, NM\, 87104\, United States
ATTACH;FMTTYPE=image/png:https://newmexicohrs.org/wp-content/uploads/2024/02/225-Social.png
END:VEVENT
END:VCALENDAR